BEGIN:VCALENDAR
VERSION:2.0
PRODID:-//ONU Center for corporate engagement - ECPv6.15.17.1//NONSGML v1.0//EN
CALSCALE:GREGORIAN
METHOD:PUBLISH
X-WR-CALNAME:ONU Center for corporate engagement
X-ORIGINAL-URL:https://cce.onu.edu
X-WR-CALDESC:Events for ONU Center for corporate engagement
REFRESH-INTERVAL;VALUE=DURATION:PT1H
X-Robots-Tag:noindex
X-PUBLISHED-TTL:PT1H
BEGIN:VTIMEZONE
TZID:America/New_York
BEGIN:DAYLIGHT
TZOFFSETFROM:-0500
TZOFFSETTO:-0400
TZNAME:EDT
DTSTART:20240310T070000
END:DAYLIGHT
BEGIN:STANDARD
TZOFFSETFROM:-0400
TZOFFSETTO:-0500
TZNAME:EST
DTSTART:20241103T060000
END:STANDARD
BEGIN:DAYLIGHT
TZOFFSETFROM:-0500
TZOFFSETTO:-0400
TZNAME:EDT
DTSTART:20250309T070000
END:DAYLIGHT
BEGIN:STANDARD
TZOFFSETFROM:-0400
TZOFFSETTO:-0500
TZNAME:EST
DTSTART:20251102T060000
END:STANDARD
BEGIN:DAYLIGHT
TZOFFSETFROM:-0500
TZOFFSETTO:-0400
TZNAME:EDT
DTSTART:20260308T070000
END:DAYLIGHT
BEGIN:STANDARD
TZOFFSETFROM:-0400
TZOFFSETTO:-0500
TZNAME:EST
DTSTART:20261101T060000
END:STANDARD
BEGIN:DAYLIGHT
TZOFFSETFROM:-0500
TZOFFSETTO:-0400
TZNAME:EDT
DTSTART:20270314T070000
END:DAYLIGHT
BEGIN:STANDARD
TZOFFSETFROM:-0400
TZOFFSETTO:-0500
TZNAME:EST
DTSTART:20271107T060000
END:STANDARD
BEGIN:DAYLIGHT
TZOFFSETFROM:-0500
TZOFFSETTO:-0400
TZNAME:EDT
DTSTART:20280312T070000
END:DAYLIGHT
BEGIN:STANDARD
TZOFFSETFROM:-0400
TZOFFSETTO:-0500
TZNAME:EST
DTSTART:20281105T060000
END:STANDARD
END:VTIMEZONE
BEGIN:VEVENT
DTSTART;TZID=America/New_York:20251021T090000
DTEND;TZID=America/New_York:20251028T163000
DTSTAMP:20260421T133340
CREATED:20241111T182847Z
LAST-MODIFIED:20250410T115648Z
UID:10000086-1761037200-1761669000@cce.onu.edu
SUMMARY:Manager Essentials
DESCRIPTION:Dates and Times: (2 days) \nOctober 21\, 9:00 a.m. to 4:30 p.m.\nand\nOctober 28\, 9:00 a.m. to 4:30 p.m. \nWhen companies can increase their number of talented managers and double the rate of engaged employees they have better financial outcomes than their competition. https://hbr.org/2014/03/why-good-managers-are-so-rare \nThe Manager Essentials certificate is an interactive and practical program designed for current or prospective managers to create a hands-on approach to management. You will enhance your professional effectiveness and your company’s competitive advantage through development of authentic and sustainable management skills\, a manager-focused business acumen lens\, and effective coaching and mentoring skills to engage and develop others. \nEngage employees: Learn skills to convey the organization’s vision and mission and build important working relationshipsTransitioning from peer to managerImpacting others: Develop the emotional intelligence and self-awareness to manage your impact on othersCoaching and Gaining Reflective Feedback: Get tools for providing coaching to develop others and to gain meaningful and effective feedback for increasing self-awareness Communication: Develop your skills to provide clear and concise messaging and have critical conversations to achieve necessary outcomes for successPrioritization of task for yourself and othersLearn techniques for influencing with or without authority to create collaboration\, gain necessary department resources\, and capture organizational wins
URL:https://cce.onu.edu/program/manager-essentials-2/
LOCATION:The Inn at Ohio Northern University\, 401 W College Ave\, Ada\, OH\, 45810\, United States
CATEGORIES:All,Certificate Programs
ATTACH;FMTTYPE=image/jpeg:https://cce.onu.edu/wp-content/uploads/2023/07/Untitled-19.jpg
END:VEVENT
BEGIN:VEVENT
DTSTART;VALUE=DATE:20260917
DTEND;VALUE=DATE:20270521
DTSTAMP:20260421T133340
CREATED:20260415T131903Z
LAST-MODIFIED:20260415T155124Z
UID:10000103-1789603200-1810857599@cce.onu.edu
SUMMARY:Women in Business Leadership Certificate
DESCRIPTION:Women in the workforce face unique challenges throughout their careers. This immersive leadership program will provide middle to senior-level managers an opportunity to further develop as authentic\, inspirational\, and impactful leaders with relevant business acumen to progress into higher levels within organizations. The program includes experiential learning and facilitated content relevant to an evolving business landscape. \nAssessment: Participants will complete an assessment as pre-work before the program begins.\nThe assessment will be referenced and discussed throughout the leadership session and\nperiodically throughout the program.Immersion Experience: A fun\, informal environment that fosters team building among the participants; a shared experience is important for developing the cohort.Authentic Leadership Development: Expanding participants’ organizational and personal leadership capabilities with a focus on Authentic Leadership.Leadership Skill Set Development: Offering skills and concepts drawn from ONU’s Center for Corporate Engagement’s experienced professionals and subject-matter experts.Audience: Women in middle to senior level management roles looking to develop the necessary business acumen and leadership skills to advance to higher level positions within the organization. \nDates and Times:  \nSeptember 16\, 2026 5:30 p.m. to 8:00 p.m. (kick-off event) \n(All sessions except September 17 are from 9:00 a.m. to 4:00 p.m.)\nSeptember 18\, 2026\nOctober 16\, 2026\nNovember 13\, 2026\nJanuary 22\, 2027\nFebruary 19\, 2027\nMarch 19\, 2027\nApril 16\, 2027\nMay 21\, 2027
URL:https://cce.onu.edu/program/women-in-business-leadership-certificate-2026/
LOCATION:The Inn at Ohio Northern University\, 401 W College Ave\, Ada\, OH\, 45810\, United States
CATEGORIES:All,Certificate Programs
ATTACH;FMTTYPE=image/png:https://cce.onu.edu/wp-content/uploads/2024/03/Female-leading-group.png
END:VEVENT
END:VCALENDAR