BEGIN:VCALENDAR
VERSION:2.0
PRODID:-//ONU Center for corporate engagement - ECPv6.15.17.1//NONSGML v1.0//EN
CALSCALE:GREGORIAN
METHOD:PUBLISH
X-ORIGINAL-URL:https://cce.onu.edu
X-WR-CALDESC:Events for ONU Center for corporate engagement
REFRESH-INTERVAL;VALUE=DURATION:PT1H
X-Robots-Tag:noindex
X-PUBLISHED-TTL:PT1H
BEGIN:VTIMEZONE
TZID:America/New_York
BEGIN:DAYLIGHT
TZOFFSETFROM:-0500
TZOFFSETTO:-0400
TZNAME:EDT
DTSTART:20240310T070000
END:DAYLIGHT
BEGIN:STANDARD
TZOFFSETFROM:-0400
TZOFFSETTO:-0500
TZNAME:EST
DTSTART:20241103T060000
END:STANDARD
BEGIN:DAYLIGHT
TZOFFSETFROM:-0500
TZOFFSETTO:-0400
TZNAME:EDT
DTSTART:20250309T070000
END:DAYLIGHT
BEGIN:STANDARD
TZOFFSETFROM:-0400
TZOFFSETTO:-0500
TZNAME:EST
DTSTART:20251102T060000
END:STANDARD
BEGIN:DAYLIGHT
TZOFFSETFROM:-0500
TZOFFSETTO:-0400
TZNAME:EDT
DTSTART:20260308T070000
END:DAYLIGHT
BEGIN:STANDARD
TZOFFSETFROM:-0400
TZOFFSETTO:-0500
TZNAME:EST
DTSTART:20261101T060000
END:STANDARD
BEGIN:DAYLIGHT
TZOFFSETFROM:-0500
TZOFFSETTO:-0400
TZNAME:EDT
DTSTART:20270314T070000
END:DAYLIGHT
BEGIN:STANDARD
TZOFFSETFROM:-0400
TZOFFSETTO:-0500
TZNAME:EST
DTSTART:20271107T060000
END:STANDARD
END:VTIMEZONE
BEGIN:VEVENT
DTSTART;TZID=America/New_York:20250424T083000
DTEND;TZID=America/New_York:20250424T163000
DTSTAMP:20260421T081025
CREATED:20241115T180800Z
LAST-MODIFIED:20250404T154907Z
UID:10000087-1745483400-1745512200@cce.onu.edu
SUMMARY:SOLD OUT - Surveyor's Workshop - Surveying Then and Now: From Gunter’s Chains to Drones and GPS
DESCRIPTION:SOLD OUT  \nCPD Credits: Participants earn 7.0 hours of continuing professional development (CPD).\nTwo of the seven hours are for Ethics. \nSessions:\nOhio’s Registration Act and Professional Ethics for Surveyors – John Greenhalge\, Executive Director\, State Board of Registration for Professional Engineers and Surveyors \nError Propagation for the Modern Surveyor –  Joseph D. Fenicle\, MS\, PS\, Assistant Professor of Surveying and Mapping\, University of Akron \nIntroduction to the Basics of Drone Surveying – Drew Ritzler\, Civil Engineer & Surveyor\, Natural Resource Conservation Service\nBarrel Up! A Guide to Keeping Your Work Protected – Jonathan Young\, Traffic Control Section Head\, ODOT Central Office\nGNSS Updates – Steve Hatfield\, Senior Geospatial Sales Consultant\, GeoShack Inc.\nMeasuring America – How Surveyors\, the Gunter’s Chain\, and the PLSS Impacted Development of the USA – Tom Zechman\, PE\, PS\, ONU Assistant Dean of Engineering\, retired
URL:https://cce.onu.edu/program/surveyors-workshop-2025/
LOCATION:McIntosh Ballroom\, ONU\, 525 South Main Street\, Ada\, OH\, 45810\, United States
CATEGORIES:All,Continuing Education
ATTACH;FMTTYPE=image/jpeg:https://cce.onu.edu/wp-content/uploads/2023/07/Untitled-5.jpg
END:VEVENT
BEGIN:VEVENT
DTSTART;TZID=America/New_York:20260409T083000
DTEND;TZID=America/New_York:20260409T163000
DTSTAMP:20260421T081025
CREATED:20251015T155248Z
LAST-MODIFIED:20260303T181722Z
UID:10000100-1775723400-1775752200@cce.onu.edu
SUMMARY:SOLD OUT - Surveyor's Workshop - A Look At Surveying From Different Angles
DESCRIPTION:Please join us in 2027! \nCPD Credits: Participants earn 7.0 hours of continuing professional development (CPD). \nSessions:\nSurveying Ohio Lands – Joe Fenicle\, PS\, Professor of Surveying and Mapping\, University of Akron \nSurvey Scans of Dinosaur Bones – Mapping Prehistoric Pathways from Megafauna and the First Peoples in the Americas to Rio Grande Pueblos –  David J. Bodo\, Bodo Surveying\nPrescriptions for Descriptions – Mike Buettner\, PS\nRiparian Rights – Barry Savage\, PLS\, Tennessee Valley Authority\nBoundary Disputes and Resolution – Barry Savage\, PLS\, Tennessee Valley Authority\nHistorical Surveying You Can Still See Today – David Strittmatter\, PhD\, Associate Professor of History\, Ohio Northern University\nSurveyors are Entrepreneurs\, Too – Becoming Entrepreneurial and Keeping It – Kevin M. Ernst\, Assistant Professor of Management\, Ohio Northern University
URL:https://cce.onu.edu/program/surveyors-workshop-a-look-at-surveying-from-different-angles/
LOCATION:McIntosh Ballroom\, ONU\, 525 South Main Street\, Ada\, OH\, 45810\, United States
CATEGORIES:All,Continuing Education
ATTACH;FMTTYPE=image/jpeg:https://cce.onu.edu/wp-content/uploads/2023/07/Untitled-5.jpg
END:VEVENT
END:VCALENDAR